BEGIN:VCALENDAR
VERSION:2.0
PRODID:-//Carolyn Clark PTA - ECPv6.15.11//NONSGML v1.0//EN
CALSCALE:GREGORIAN
METHOD:PUBLISH
X-WR-CALNAME:Carolyn Clark PTA
X-ORIGINAL-URL:https://carolynclarkpta.org
X-WR-CALDESC:Events for Carolyn Clark PTA
REFRESH-INTERVAL;VALUE=DURATION:PT1H
X-Robots-Tag:noindex
X-PUBLISHED-TTL:PT1H
BEGIN:VTIMEZONE
TZID:UTC
BEGIN:STANDARD
TZOFFSETFROM:+0000
TZOFFSETTO:+0000
TZNAME:UTC
DTSTART:20190101T000000
END:STANDARD
END:VTIMEZONE
BEGIN:VEVENT
DTSTART;TZID=UTC:20210526T180000
DTEND;TZID=UTC:20210526T193000
DTSTAMP:20260423T093331
CREATED:20200801T062601Z
LAST-MODIFIED:20200801T062601Z
UID:362-1622052000-1622057400@carolynclarkpta.org
SUMMARY:PTA Meeting
DESCRIPTION:
URL:https://carolynclarkpta.org/event/pta-meeting-2/
CATEGORIES:PTA Meeting
END:VEVENT
BEGIN:VEVENT
DTSTART;VALUE=DATE:20210504
DTEND;VALUE=DATE:20210505
DTSTAMP:20260423T093331
CREATED:20200801T062505Z
LAST-MODIFIED:20200801T062505Z
UID:360-1620086400-1620172799@carolynclarkpta.org
SUMMARY:Family Science Night
DESCRIPTION:
URL:https://carolynclarkpta.org/event/family-science-night/
CATEGORIES:PTA Event
END:VEVENT
BEGIN:VEVENT
DTSTART;TZID=UTC:20210324T180000
DTEND;TZID=UTC:20210324T193000
DTSTAMP:20260423T093331
CREATED:20200801T062409Z
LAST-MODIFIED:20200801T062409Z
UID:358-1616608800-1616614200@carolynclarkpta.org
SUMMARY:PTA Meeting
DESCRIPTION:
URL:https://carolynclarkpta.org/event/pta-meeting/
CATEGORIES:PTA Meeting
END:VEVENT
BEGIN:VEVENT
DTSTART;TZID=UTC:20201028T180000
DTEND;TZID=UTC:20201028T193000
DTSTAMP:20260423T093331
CREATED:20200801T062314Z
LAST-MODIFIED:20200801T062314Z
UID:356-1603908000-1603913400@carolynclarkpta.org
SUMMARY:Virtual PTA Meeting
DESCRIPTION:
URL:https://carolynclarkpta.org/event/virtual-pta-meeting-2/
CATEGORIES:PTA Meeting
END:VEVENT
BEGIN:VEVENT
DTSTART;TZID=UTC:20200923T180000
DTEND;TZID=UTC:20200923T193000
DTSTAMP:20260423T093331
CREATED:20200801T062233Z
LAST-MODIFIED:20200801T062233Z
UID:354-1600884000-1600889400@carolynclarkpta.org
SUMMARY:Virtual PTA Meeting
DESCRIPTION:
URL:https://carolynclarkpta.org/event/virtual-pta-meeting/
CATEGORIES:PTA Meeting
END:VEVENT
BEGIN:VEVENT
DTSTART;VALUE=DATE:20200821
DTEND;VALUE=DATE:20200822
DTSTAMP:20260423T093331
CREATED:20200801T062149Z
LAST-MODIFIED:20200801T062149Z
UID:352-1597968000-1598054399@carolynclarkpta.org
SUMMARY:Family Night Out Fundraiser- Panda Express
DESCRIPTION:
URL:https://carolynclarkpta.org/event/family-night-out-fundraiser-panda-express/
CATEGORIES:Family Night Out,Fundraisers
END:VEVENT
END:VCALENDAR